BEGIN:VCALENDAR
VERSION:2.0
PRODID:-//Rocky Road - ECPv6.15.20//NONSGML v1.0//EN
CALSCALE:GREGORIAN
METHOD:PUBLISH
X-ORIGINAL-URL:https://rockyroad.com
X-WR-CALDESC:Events for Rocky Road
REFRESH-INTERVAL;VALUE=DURATION:PT1H
X-Robots-Tag:noindex
X-PUBLISHED-TTL:PT1H
BEGIN:VTIMEZONE
TZID:America/Denver
BEGIN:DAYLIGHT
TZOFFSETFROM:-0700
TZOFFSETTO:-0600
TZNAME:MDT
DTSTART:20230312T090000
END:DAYLIGHT
BEGIN:STANDARD
TZOFFSETFROM:-0600
TZOFFSETTO:-0700
TZNAME:MST
DTSTART:20231105T080000
END:STANDARD
BEGIN:DAYLIGHT
TZOFFSETFROM:-0700
TZOFFSETTO:-0600
TZNAME:MDT
DTSTART:20240310T090000
END:DAYLIGHT
BEGIN:STANDARD
TZOFFSETFROM:-0600
TZOFFSETTO:-0700
TZNAME:MST
DTSTART:20241103T080000
END:STANDARD
BEGIN:DAYLIGHT
TZOFFSETFROM:-0700
TZOFFSETTO:-0600
TZNAME:MDT
DTSTART:20250309T090000
END:DAYLIGHT
BEGIN:STANDARD
TZOFFSETFROM:-0600
TZOFFSETTO:-0700
TZNAME:MST
DTSTART:20251102T080000
END:STANDARD
END:VTIMEZONE
BEGIN:VEVENT
DTSTART;TZID=America/Denver:20240501T080000
DTEND;TZID=America/Denver:20240531T170000
DTSTAMP:20260423T225520
CREATED:20240501T161654Z
LAST-MODIFIED:20240506T133045Z
UID:10009236-1714550400-1717174800@rockyroad.com
SUMMARY:Vendor of the Month - Sano Gardens - 20% off
DESCRIPTION:Explore Sano Garden’s award product line.
URL:https://rockyroad.com/event/vendor-of-the-month-sano-gardens-30-off/
LOCATION:Aurora\, 1712 S Chambers Rd\, Aurora\, CO\, 80017\, United States
ATTACH;FMTTYPE=image/png:https://rockyroad.com/wp-content/uploads/2024/05/Offer-Valid-414-421-or-While-Supplies-Last-Discounts-Do-Not-Stack-Exclusions-may-apply-OTDincludes-sales-tax-WARNING-Overconsumption-of-Marijuana-Concentrate-may-lead-to-Psychotic-symptoms-a-2.png
END:VEVENT
BEGIN:VEVENT
DTSTART;VALUE=DATE:20240510
DTEND;VALUE=DATE:20240514
DTSTAMP:20260423T225520
CREATED:20240510T165011Z
LAST-MODIFIED:20240510T165106Z
UID:10015145-1715299200-1715644799@rockyroad.com
SUMMARY:Mother's Day Sales
DESCRIPTION:Mother’s Day Sales:\nDeals for Moms\, and the ones who love them!  Stop by this weekend for a last minute gift for Mom (or treat yourself\, we wont tell) 🤫 \n\nTopicals & Transdermals 20% OFF!\nB-BUD Sale – $30/qtr or $100/oz!\nRipple NEW fast-acting Riplets 20% OFF!\nEvolab Vape Products 30% OFF\n\nSHOP NOW \nRISKS AND PRECAUTIONS WARNING: Use of Marijuana Concentrate may lead to1 : 1. Psychotic symptoms and/or Psychotic disorder (delusions\, hallucinations\, or difficulty distinguishing reality); 2. Mental Health Symptoms/Problems; 3. Cannabis Hyperemesis Syndrome (CHS) (uncontrolled and repetitive vomiting); 4. Cannabis use disorder / dependence\, including physical and psychological dependence.
URL:https://rockyroad.com/event/mothers-day-sales/
LOCATION:Vail\, 40928 Highway 6\, Unit 2b\, Avon\, CO\, 81620\, United States
CATEGORIES:Vail
ATTACH;FMTTYPE=image/jpeg:https://rockyroad.com/wp-content/uploads/2024/05/MOMDAY.jpg
END:VEVENT
BEGIN:VEVENT
DTSTART;TZID=America/Denver:20240510T080000
DTEND;TZID=America/Denver:20240513T233000
DTSTAMP:20260423T225520
CREATED:20240501T162540Z
LAST-MODIFIED:20240501T162540Z
UID:10009237-1715328000-1715643000@rockyroad.com
SUMMARY:🩷🌸Mother's Day🌸🩷
DESCRIPTION:🩷🌸Mother’s Day🌸🩷 \n\n$10 Top Shelf Bud \n$10 Craft Carts \n$10 1g – I70 Wax \n$20 – MJM Bath Bombs  
URL:https://rockyroad.com/event/%f0%9f%a9%b7%f0%9f%8c%b8mothers-day%f0%9f%8c%b8%f0%9f%a9%b7/
LOCATION:Thornton\, 3901 E 112th Ave Unit G\, Thornton\, CO\, 80233\, United States
CATEGORIES:Thornton
ATTACH;FMTTYPE=image/png:https://rockyroad.com/wp-content/uploads/2024/05/mothers-day-app.png
END:VEVENT
END:VCALENDAR