BEGIN:VCALENDAR
VERSION:2.0
PRODID:-//Rocky Road - ECPv6.15.20//NONSGML v1.0//EN
CALSCALE:GREGORIAN
METHOD:PUBLISH
X-WR-CALNAME:Rocky Road
X-ORIGINAL-URL:https://rockyroad.com
X-WR-CALDESC:Events for Rocky Road
REFRESH-INTERVAL;VALUE=DURATION:PT1H
X-Robots-Tag:noindex
X-PUBLISHED-TTL:PT1H
BEGIN:VTIMEZONE
TZID:America/Denver
BEGIN:DAYLIGHT
TZOFFSETFROM:-0700
TZOFFSETTO:-0600
TZNAME:MDT
DTSTART:20250309T090000
END:DAYLIGHT
BEGIN:STANDARD
TZOFFSETFROM:-0600
TZOFFSETTO:-0700
TZNAME:MST
DTSTART:20251102T080000
END:STANDARD
BEGIN:DAYLIGHT
TZOFFSETFROM:-0700
TZOFFSETTO:-0600
TZNAME:MDT
DTSTART:20260308T090000
END:DAYLIGHT
BEGIN:STANDARD
TZOFFSETFROM:-0600
TZOFFSETTO:-0700
TZNAME:MST
DTSTART:20261101T080000
END:STANDARD
BEGIN:DAYLIGHT
TZOFFSETFROM:-0700
TZOFFSETTO:-0600
TZNAME:MDT
DTSTART:20270314T090000
END:DAYLIGHT
BEGIN:STANDARD
TZOFFSETFROM:-0600
TZOFFSETTO:-0700
TZNAME:MST
DTSTART:20271107T080000
END:STANDARD
END:VTIMEZONE
BEGIN:VEVENT
DTSTART;TZID=America/Denver:20260201T080000
DTEND;TZID=America/Denver:20260228T233000
DTSTAMP:20260424T191606
CREATED:20260201T134640Z
LAST-MODIFIED:20260201T134640Z
UID:10046328-1769932800-1772321400@rockyroad.com
SUMMARY:Wyld - Vendor of the Month - 30% off - Feb 2026
DESCRIPTION:While Supplies Last – Cannot be combined with other offers
URL:https://rockyroad.com/event/wyld-vendor-of-the-month-30-off-feb-2026/
LOCATION:Aurora\, 1712 S Chambers Rd\, Aurora\, CO\, 80017\, United States
CATEGORIES:Aurora
ATTACH;FMTTYPE=image/png:https://rockyroad.com/wp-content/uploads/2026/02/Feb-Tiles.png
END:VEVENT
BEGIN:VEVENT
DTSTART;TZID=America/Denver:20260201T080000
DTEND;TZID=America/Denver:20260228T233000
DTSTAMP:20260424T191606
CREATED:20260201T134906Z
LAST-MODIFIED:20260201T134906Z
UID:10046329-1769932800-1772321400@rockyroad.com
SUMMARY:Spherex - Vendor of the Month - 30% off - Feb 2026
DESCRIPTION:While Supplies Last – Cannot be combined with other offers
URL:https://rockyroad.com/event/spherex-vendor-of-the-month-30-off-feb-2026/
LOCATION:Aurora\, 1712 S Chambers Rd\, Aurora\, CO\, 80017\, United States
CATEGORIES:Aurora
ATTACH;FMTTYPE=image/png:https://rockyroad.com/wp-content/uploads/2026/02/Feb-Tiles-1.png
END:VEVENT
BEGIN:VEVENT
DTSTART;TZID=America/Denver:20260201T080000
DTEND;TZID=America/Denver:20260228T233000
DTSTAMP:20260424T191606
CREATED:20260201T135058Z
LAST-MODIFIED:20260201T135058Z
UID:10046330-1769932800-1772321400@rockyroad.com
SUMMARY:$20/g - Seed & Smith Live Resin Dab
DESCRIPTION:While Supplies Last – Cannot be combined with other offers
URL:https://rockyroad.com/event/20-g-seed-smith-live-resin-dab/
LOCATION:Aurora\, 1712 S Chambers Rd\, Aurora\, CO\, 80017\, United States
CATEGORIES:Aurora
ATTACH;FMTTYPE=image/png:https://rockyroad.com/wp-content/uploads/2026/02/Feb-Tiles-5.png
END:VEVENT
BEGIN:VEVENT
DTSTART;TZID=America/Denver:20260201T080000
DTEND;TZID=America/Denver:20260228T233000
DTSTAMP:20260424T191606
CREATED:20260201T135226Z
LAST-MODIFIED:20260201T135226Z
UID:10046331-1769932800-1772321400@rockyroad.com
SUMMARY:Hi-Fuel 20% off Pre-packed 8ths
DESCRIPTION:while supplies last – cannot be combined with other offers
URL:https://rockyroad.com/event/hi-fuel-20-off-pre-packed-8ths/
LOCATION:Aurora\, 1712 S Chambers Rd\, Aurora\, CO\, 80017\, United States
CATEGORIES:Aurora
ATTACH;FMTTYPE=image/png:https://rockyroad.com/wp-content/uploads/2026/02/Feb-Tiles-3.png
END:VEVENT
BEGIN:VEVENT
DTSTART;TZID=America/Denver:20260224T080000
DTEND;TZID=America/Denver:20260224T234500
DTSTAMP:20260424T191606
CREATED:20260108T211858Z
LAST-MODIFIED:20260205T165831Z
UID:10044760-1771920000-1771976700@rockyroad.com
SUMMARY:Tasty Tuesday at Rocky Road Thornton!
DESCRIPTION:🍬💚 Tasty Tuesday at Rocky Road Thornton! 💚🍬\n📅 When: Every Tuesday📍 Where: Rocky Road Thornton \nSweeten your week with Tasty Tuesday! Every Tuesday\, customers can enjoy: \n🔥 10% OFF All Edibles\nGummies\, chocolates\, beverages\, and more — if it’s edible\, it’s on deal! A great way to stock up or try something new. \nStop by and treat yourself this Tuesday! 💚🍬
URL:https://rockyroad.com/event/%f0%9f%8d%ac%f0%9f%92%9a-tasty-tuesday-at-rocky-road-thornton-%f0%9f%92%9a%f0%9f%8d%ac/2026-02-24/
LOCATION:Thornton\, 3901 E 112th Ave Unit G\, Thornton\, CO\, 80233\, United States
CATEGORIES:Thornton
ATTACH;FMTTYPE=image/jpeg:https://rockyroad.com/wp-content/uploads/2026/01/Landscape-Tasty-Tuesdays.jpg
END:VEVENT
END:VCALENDAR